BEGIN:VCALENDAR
VERSION:2.0
PRODID:-//Colegio de La Presentación Bucaramanga - ECPv6.10.2//NONSGML v1.0//EN
CALSCALE:GREGORIAN
METHOD:PUBLISH
X-ORIGINAL-URL:https://colegiodelapresentacion.edu.co
X-WR-CALDESC:Eventos para Colegio de La Presentación Bucaramanga
REFRESH-INTERVAL;VALUE=DURATION:PT1H
X-Robots-Tag:noindex
X-PUBLISHED-TTL:PT1H
BEGIN:VTIMEZONE
TZID:America/Bogota
BEGIN:STANDARD
TZOFFSETFROM:-0500
TZOFFSETTO:-0500
TZNAME:-05
DTSTART:20240101T000000
END:STANDARD
END:VTIMEZONE
BEGIN:VEVENT
DTSTART;TZID=America/Bogota:20240118T070000
DTEND;TZID=America/Bogota:20240119T170000
DTSTAMP:20260419T220121
CREATED:20240116T201515Z
LAST-MODIFIED:20240116T201515Z
UID:35960-1705561200-1705683600@colegiodelapresentacion.edu.co
SUMMARY:Matriculas Extraordinarias 2024
DESCRIPTION:
URL:https://colegiodelapresentacion.edu.co/evento/matriculas-extraordinarias-2024/
ATTACH;FMTTYPE=image/jpeg:https://colegiodelapresentacion.edu.co/wp-content/uploads/2024/01/matriculas-extraordinarias-colpresbga-2024.jpg
END:VEVENT
END:VCALENDAR