BEGIN:VCALENDAR
VERSION:2.0
PRODID:-//Colegio de La Presentación Bucaramanga - ECPv6.10.2//NONSGML v1.0//EN
CALSCALE:GREGORIAN
METHOD:PUBLISH
X-ORIGINAL-URL:https://colegiodelapresentacion.edu.co
X-WR-CALDESC:Eventos para Colegio de La Presentación Bucaramanga
REFRESH-INTERVAL;VALUE=DURATION:PT1H
X-Robots-Tag:noindex
X-PUBLISHED-TTL:PT1H
BEGIN:VTIMEZONE
TZID:America/Bogota
BEGIN:STANDARD
TZOFFSETFROM:-0500
TZOFFSETTO:-0500
TZNAME:-05
DTSTART:20240101T000000
END:STANDARD
END:VTIMEZONE
BEGIN:VEVENT
DTSTART;TZID=America/Bogota:20240203T080000
DTEND;TZID=America/Bogota:20240203T110000
DTSTAMP:20260419T202055
CREATED:20240125T204327Z
LAST-MODIFIED:20240125T204417Z
UID:36053-1706947200-1706958000@colegiodelapresentacion.edu.co
SUMMARY:Encuentro de Familias Nuevas
DESCRIPTION:
URL:https://colegiodelapresentacion.edu.co/evento/encuentro-de-familias-nuevas/
ATTACH;FMTTYPE=image/jpeg:https://colegiodelapresentacion.edu.co/wp-content/uploads/2024/01/Banner-colpresbga-3.jpg
END:VEVENT
BEGIN:VEVENT
DTSTART;TZID=America/Bogota:20240205T080000
DTEND;TZID=America/Bogota:20240205T120000
DTSTAMP:20260419T202055
CREATED:20240125T204157Z
LAST-MODIFIED:20240125T204157Z
UID:36051-1707120000-1707134400@colegiodelapresentacion.edu.co
SUMMARY:Inicio de Clases de Preescolar y Primaria
DESCRIPTION:
URL:https://colegiodelapresentacion.edu.co/evento/inicio-de-clases-de-preescolar-y-primaria/
ATTACH;FMTTYPE=image/jpeg:https://colegiodelapresentacion.edu.co/wp-content/uploads/2024/01/Banner-colpresbga-1.jpg
END:VEVENT
BEGIN:VEVENT
DTSTART;TZID=America/Bogota:20240206T080000
DTEND;TZID=America/Bogota:20240206T110000
DTSTAMP:20260419T202055
CREATED:20240125T204541Z
LAST-MODIFIED:20240125T204541Z
UID:36055-1707206400-1707217200@colegiodelapresentacion.edu.co
SUMMARY:Inicio Clases de 6° a 11°
DESCRIPTION:
URL:https://colegiodelapresentacion.edu.co/evento/inicio-clases-de-6-a-11/
ATTACH;FMTTYPE=image/jpeg:https://colegiodelapresentacion.edu.co/wp-content/uploads/2024/01/Banner-colpresbga-5.jpg
END:VEVENT
BEGIN:VEVENT
DTSTART;TZID=America/Bogota:20240213T183000
DTEND;TZID=America/Bogota:20240213T183000
DTSTAMP:20260419T202055
CREATED:20240208T141516Z
LAST-MODIFIED:20240208T141516Z
UID:36230-1707849000-1707849000@colegiodelapresentacion.edu.co
SUMMARY:Reunión Padres de Familia 11°
DESCRIPTION:
URL:https://colegiodelapresentacion.edu.co/evento/reunion-padres-de-familia-11/
ATTACH;FMTTYPE=image/jpeg:https://colegiodelapresentacion.edu.co/wp-content/uploads/2024/02/Reunion.jpg
END:VEVENT
BEGIN:VEVENT
DTSTART;TZID=America/Bogota:20240214T183000
DTEND;TZID=America/Bogota:20240214T183000
DTSTAMP:20260419T202055
CREATED:20240208T141221Z
LAST-MODIFIED:20240208T141221Z
UID:36227-1707935400-1707935400@colegiodelapresentacion.edu.co
SUMMARY:Reunión Padres de Familia Preescolar y Primaria
DESCRIPTION:
URL:https://colegiodelapresentacion.edu.co/evento/reunion-padres-de-familia-preescolar-y-primaria/
ATTACH;FMTTYPE=image/jpeg:https://colegiodelapresentacion.edu.co/wp-content/uploads/2024/02/reunion-primaria-preescolar.jpg
END:VEVENT
BEGIN:VEVENT
DTSTART;TZID=America/Bogota:20240215T063000
DTEND;TZID=America/Bogota:20240215T193000
DTSTAMP:20260419T202055
CREATED:20240208T134300Z
LAST-MODIFIED:20240208T134300Z
UID:36223-1707978600-1708025400@colegiodelapresentacion.edu.co
SUMMARY:Reunión Padres de Familia Bachillerato
DESCRIPTION:
URL:https://colegiodelapresentacion.edu.co/evento/reunion-padres-de-familia-bachillerato/
ATTACH;FMTTYPE=image/jpeg:https://colegiodelapresentacion.edu.co/wp-content/uploads/2024/02/reunion-bachillerato.jpg
END:VEVENT
BEGIN:VEVENT
DTSTART;TZID=America/Bogota:20240229T073000
DTEND;TZID=America/Bogota:20240229T083000
DTSTAMP:20260419T202055
CREATED:20240227T125417Z
LAST-MODIFIED:20240227T125417Z
UID:36470-1709191800-1709195400@colegiodelapresentacion.edu.co
SUMMARY:Foro Candidatos Personero 2024
DESCRIPTION:
URL:https://colegiodelapresentacion.edu.co/evento/foro-candidatos-personero-2024/
ATTACH;FMTTYPE=image/jpeg:https://colegiodelapresentacion.edu.co/wp-content/uploads/2024/02/foro-candidatos-2024.jpg
END:VEVENT
END:VCALENDAR