BEGIN:VCALENDAR
VERSION:2.0
PRODID:-//Colegio de La Presentación Bucaramanga - ECPv6.10.2//NONSGML v1.0//EN
CALSCALE:GREGORIAN
METHOD:PUBLISH
X-WR-CALNAME:Colegio de La Presentación Bucaramanga
X-ORIGINAL-URL:https://colegiodelapresentacion.edu.co
X-WR-CALDESC:Eventos para Colegio de La Presentación Bucaramanga
REFRESH-INTERVAL;VALUE=DURATION:PT1H
X-Robots-Tag:noindex
X-PUBLISHED-TTL:PT1H
BEGIN:VTIMEZONE
TZID:America/Bogota
BEGIN:STANDARD
TZOFFSETFROM:-0500
TZOFFSETTO:-0500
TZNAME:-05
DTSTART:20240101T000000
END:STANDARD
END:VTIMEZONE
BEGIN:VEVENT
DTSTART;TZID=America/Bogota:20240426T080000
DTEND;TZID=America/Bogota:20240426T090000
DTSTAMP:20260419T165832
CREATED:20240419T195142Z
LAST-MODIFIED:20240419T195142Z
UID:37076-1714118400-1714122000@colegiodelapresentacion.edu.co
SUMMARY:Eucaristía de Consagración Jefes Infancia Misionera
DESCRIPTION:
URL:https://colegiodelapresentacion.edu.co/evento/eucaristia-de-consagracion-jefes-infancia-misionera/
ATTACH;FMTTYPE=image/jpeg:https://colegiodelapresentacion.edu.co/wp-content/uploads/2024/04/esucaristia-consagracion.jpg
END:VEVENT
END:VCALENDAR