BEGIN:VCALENDAR
VERSION:2.0
PRODID:-//Colegio de La Presentación Bucaramanga - ECPv6.10.2//NONSGML v1.0//EN
CALSCALE:GREGORIAN
METHOD:PUBLISH
X-ORIGINAL-URL:https://colegiodelapresentacion.edu.co
X-WR-CALDESC:Eventos para Colegio de La Presentación Bucaramanga
REFRESH-INTERVAL;VALUE=DURATION:PT1H
X-Robots-Tag:noindex
X-PUBLISHED-TTL:PT1H
BEGIN:VTIMEZONE
TZID:America/Bogota
BEGIN:STANDARD
TZOFFSETFROM:-0500
TZOFFSETTO:-0500
TZNAME:-05
DTSTART:20240101T000000
END:STANDARD
END:VTIMEZONE
BEGIN:VEVENT
DTSTART;VALUE=DATE:20240515
DTEND;VALUE=DATE:20240516
DTSTAMP:20260419T152620
CREATED:20240503T202903Z
LAST-MODIFIED:20240503T202903Z
UID:37198-1715731200-1715817599@colegiodelapresentacion.edu.co
SUMMARY:Reciclatón 2024
DESCRIPTION:
URL:https://colegiodelapresentacion.edu.co/evento/reciclaton-2024/
ATTACH;FMTTYPE=image/jpeg:https://colegiodelapresentacion.edu.co/wp-content/uploads/2024/05/reciclaton.jpeg
END:VEVENT
BEGIN:VEVENT
DTSTART;VALUE=DATE:20240525
DTEND;VALUE=DATE:20240526
DTSTAMP:20260419T152620
CREATED:20240521T163642Z
LAST-MODIFIED:20240521T163642Z
UID:37529-1716595200-1716681599@colegiodelapresentacion.edu.co
SUMMARY:Celebración día de La Familia
DESCRIPTION:
URL:https://colegiodelapresentacion.edu.co/evento/celebracion-dia-de-la-familia/
ATTACH;FMTTYPE=image/jpeg:https://colegiodelapresentacion.edu.co/wp-content/uploads/2024/05/Dia-de-la-familia.jpeg
END:VEVENT
BEGIN:VEVENT
DTSTART;VALUE=DATE:20240528
DTEND;VALUE=DATE:20240601
DTSTAMP:20260419T152620
CREATED:20240404T161239Z
LAST-MODIFIED:20240404T161239Z
UID:36921-1716854400-1717199999@colegiodelapresentacion.edu.co
SUMMARY:XIX Encuentro Departamental de Semilleros
DESCRIPTION:
URL:https://colegiodelapresentacion.edu.co/evento/xix-encuentro-departamental-de-semilleros/
ATTACH;FMTTYPE=image/jpeg:https://colegiodelapresentacion.edu.co/wp-content/uploads/2024/04/encuentro-departamental-semilleros-investigacion.jpeg
END:VEVENT
BEGIN:VEVENT
DTSTART;TZID=America/Bogota:20240531T183000
DTEND;TZID=America/Bogota:20240531T193000
DTSTAMP:20260419T152620
CREATED:20240521T163832Z
LAST-MODIFIED:20240521T163832Z
UID:37534-1717180200-1717183800@colegiodelapresentacion.edu.co
SUMMARY:Día del Exalumno PRESENTACIÓN
DESCRIPTION:
URL:https://colegiodelapresentacion.edu.co/evento/dia-del-exalumno-presentacion/
ATTACH;FMTTYPE=image/jpeg:https://colegiodelapresentacion.edu.co/wp-content/uploads/2024/05/dia-del-exalumno-presentacion.jpeg
END:VEVENT
END:VCALENDAR